Workbook

Sheet 沈安
A1: 附件 1
C2: 法库沈安农村客运班车运营里程审核情况汇总表（2025年度）
A3: 序号 | B3: 线路名称 | C3: 车牌照号 | D3: 道路运输证号 | E3: 车辆外廓尺寸 | F3: 核定载客 人数 | G3: 年度运营 天数 | H3: 年度总运营 里程（公里） | I3: 年度总耗 油量（升） | J3: 百公里平均 油耗（升） | K3: 备注
A4: 1 | B4: 法库-刘丙堡 | C4: 辽AY8200 | D4: 210124001680 | E4: 6600*2260*2960 | F4: 19 | G4: 129 | H4: 25199.3 | I4: =H4/100*J4 -> 5543.846 | J4: 22
A5: 2 | B5: 法库-法库(卧牛石） | C5: 辽A2688Y | D5: 210124001411 | E5: 7470*2320*2920 | F5: 29 | G5: 98 | H5: 19447.4 | I5: =H5/100*J5 -> 4278.428 | J5: 22
A6: 3 | B6: 法库-三面船 | C6: 辽AY3798 | D6: 210124001619 | E6: 5995*2260*2830 | F6: 19 | G6: 362 | H6: 55571.4 | I6: =H6/100*J6 -> 10558.566 | J6: 19
A7: 4 | B7: 法库-包家屯 | C7: 辽ABK878 | D7: 210124002640 | E7: 6630*2280*3040 | F7: 19 | G7: 337 | H7: 82224 | I7: =H7/100*J7 -> 18089.28 | J7: 22
A8: 5 | B8: 法库-李房申 | C8: 辽A2211Y | D8: 210124000892 | E8: 6570*2250*2990 | F8: 19 | G8: 198 | H8: 30347.5 | I8: =H8/100*J8 -> 6676.45 | J8: 22
A9: 6 | B9: 法库-贺尔海 | C9: 辽AY3777 | D9: 210124001682 | E9: 6570*2250*2780 | F9: 19 | G9: 355 | H9: 63127.9 | I9: =H9/100*J9 -> 13888.138 | J9: 22
A10: 7 | B10: 法库-塔山 | C10: 辽AY8003 | D10: 210124001406 | E10: 5990*2240*2830 | F10: 19 | G10: 344 | H10: 59968.1 | I10: =H10/100*J10 -> 11393.939 | J10: 19
A11: 8 | B11: 法库-獐草沟 | C11: 辽ACW552 | D11: 210124003150 | E11: 6570*2250*2780 | F11: 19 | G11: 323 | H11: 50816.8 | I11: =H11/100*J11 -> 11179.696 | J11: 22
A12: 9 | B12: 法库-西二台子 | C12: 辽AY8267 | D12: 210124001613 | E12: 6570*2250*2780 | F12: 19 | G12: 351 | H12: 76224.8 | I12: =H12/100*J12 -> 16769.456 | J12: 22
A13: 10 | B13: 法库-薄坨子 | C13: 辽ABK717 | D13: 210124003126 | E13: 6570*2250*2820 | F13: 19 | G13: 359 | H13: 77489.7 | I13: =H13/100*J13 -> 17047.734 | J13: 22
A14: 11 | B14: 法库-登仕堡 | C14: 辽ABK234 | D14: 210124002041 | E14: 6600*2260*2830 | F14: 19 | G14: 360 | H14: 75951.22 | I14: =H14/100*J14 -> 16709.268 | J14: 22
A15: 12 | B15: 法库-登仕堡 | C15: 辽AY8177 | D15: 210124001713 | E15: 5995*2260*2830 | F15: 19 | G15: 281 | H15: 54490.7 | I15: =H15/100*J15 -> 10353.233 | J15: 19
... A24: 21 | B24: 法库-三合城 | C24: 辽AY3811 | D24: 210124001561 | E24: 6570*2250*2920 | F24: 19 | G24: 363 | H24: 100840.8 | I24: =H24/100*J24 -> 22184.976 | J24: 22
A25: 22 | B25: 法库-法库（小荒地） | C25: 辽ABK088 | D25: 21200332 | E25: 5998*2240*2830 | F25: 19 | G25: 173 | H25: 15667.6 | I25: =H25/100*J25 -> 2976.844 | J25: 19
A26: 23 | B26: 法库-李房申东 | C26: 辽ABJ866 | D26: 210124003139 | E26: 6570*2250*2820 | F26: 19 | G26: 357 | H26: 63634.8 | I26: =H26/100*J26 -> 13999.656 | J26: 22
A27: 24 | B27: 法库-登仕堡 | C27: 辽AY8112 | D27: 210124001566 | E27: 6570*2250*2780 | F27: 19 | G27: 361 | H27: 78875.7 | I27: =H27/100*J27 -> 17352.654 | J27: 22
A28: 25 | B28: 法库-叶茂台 | C28: 辽AY8155 | D28: 210124001617 | E28: 5995*2240*2830 | F28: 19 | G28: 347 | H28: 70791.1 | I28: =H28/100*J28 -> 13450.309 | J28: 19
A29: 26 | B29: 法库-钱家沟 | C29: 辽AL0008 | D29: 21200303 | E29: 6660*2240*2760 | F29: 19 | G29: 231 | H29: 26964.1 | I29: =H29/100*J29 -> 5932.102 | J29: 22
A30: 27 | B30: 法库-苇子沟 | C30: 辽AL0208 | D30: 21200238 | E30: 7480*2360*2950 | F30: 29 | G30: 33 | H30: 5582.8 | I30: =H30/100*J30 -> 1228.216 | J30: 22
A31: 28 | B31: 法库-李祥堡 | C31: 辽AL0338 | D31: 210124001568 | E31: 6610*2240*2940 | F31: 19 | G31: 329 | H31: 53403.7 | I31: =H31/100*J31 -> 11748.814 | J31: 22
A32: 29 | B32: 法库-钱家沟 | C32: 辽AY3765 | D32: 210124002586 | E32: 5998*2240*2830 | F32: 19 | G32: 76 | H32: 12313.1 | I32: =H32/100*J32 -> 2339.489 | J32: 19
A33: 30 | B33: 法库-北土城 | C33: 辽AY8339 | D33: 210124001685 | E33: 5995*2260*2830 | F33: 19 | G33: 356 | H33: 102734.7 | I33: =H33/100*J33 -> 19519.593 | J33: 19
A34: 31 | B34: 法库-三面船 | C34: 辽AM8133 | D34: 210124001328 | E34: 6570*2250*2780 | F34: 19 | G34: 357 | H34: 55519.1 | I34: =H34/100*J34 -> 12214.202 | J34: 22
A35: 32 | B35: 东拉马-富拉堡子 | C35: 辽AY8028 | D35: 210124002889 | E35: 6620*2240*2860 | F35: 19 | G35: 57 | H35: 5714.8 | I35: =H35/100*J35 -> 1257.256 | J35: 22
A36: 33 | B36: 蔡家沟--泡子沿 | C36: 辽AY8000 | D36: 210124001407 | E36: 5995*2240*2830 | F36: 19 | G36: 300 | H36: 24612.9 | I36: =H36/100*J36 -> 4676.451 | J36: 19
A37: 34 | B37: 柏家沟-柏家沟 | C37: 辽AL7720 | D37: 210124001377 | E37: 6600*2240*2830 | F37: 19 | G37: 262 | H37: 37921.4 | I37: =H37/100*J37 -> 8342.708 | J37: 22
A38: 35 | B38: 法库-法库（依牛堡） | C38: 辽AY3986 | D38: 210124001686 | E38: 6570*2250*2780 | F38: 19 | G38: 359 | H38: 59678.2 | I38: =H38/100*J38 -> 13129.204 | J38: 22
A39: 36 | B39: 法库-叶茂台 | C39: 辽ABK868 | D39: 210124001865 | E39: 6570*2250*2820 | F39: 19 | G39: 362 | H39: 76624.3 | I39: =H39/100*J39 -> 16857.346 | J39: 22
A40: 37 | B40: 法库-三面船 | C40: 辽AY8106 | D40: 210124001408 | E40: 6620*2240*2860 | F40: 19 | G40: 339 | H40: 70456.2 | I40: =H40/100*J40 -> 15500.364 | J40: 22
A41: 38 | B41: 法库-刘家 | C41: 辽AY8125 | D41: 210124001113 | E41: 6570*2250*2780 | F41: 19 | G41: 358 | H41: 81308.8 | I41: =H41/100*J41 -> 17887.936 | J41: 22
A42: 39 | B42: 法库-靠陵沟 | C42: 辽ABK598 | D42: 210124002939 | E42: 7210*2240*2900 | F42: 27 | G42: 330 | H42: 42786.1 | I42: =H42/100*J42 -> 9412.942 | J42: 22
... A54: 51 | B54: 法库-法库（边家） | C54: 辽AY3549 | D54: 210124000073 | E54: 7470*2340*3020 | F54: 29 | G54: 268 | H54: 39977.7 | I54: =H54/100*J54 -> 8795.094 | J54: 22
A55: 52 | B55: 法库-红花岭 | C55: 辽AY3552 | D55: 21200670 | E55: 5990*2250*2780 | F55: 19 | G55: 110 | H55: 18734.4 | I55: =H55/100*J55 -> 3559.536 | J55: 19
A56: 53 | B56: 法库-柏家沟 | C56: 辽AY3557 | D56: 210124002042 | E56: 7470*2340*3020 | F56: 29 | G56: 120 | H56: 22442.5 | I56: =H56/100*J56 -> 4937.35 | J56: 22
A57: 54 | B57: 法库-登仕堡 | C57: 辽AL7717 | D57: 210124001235 | E57: 6600*2240*2830 | F57: 19 | G57: 355 | H57: 75320.8 | I57: =H57/100*J57 -> 16570.576 | J57: 22
A58: 55 | B58: 法库-柏家沟 | C58: 辽AY3660 | D58: 210124001564 | E58: 6610*2240*2940 | F58: 19 | G58: 360 | H58: 58922.6 | I58: =H58/100*J58 -> 12962.972 | J58: 22
A59: 56 | B59: 法库-法库（慈恩寺） | C59: 辽AY8116 | D59: 210124002184 | E59: 5998*2240*2830 | F59: 19 | G59: 205 | H59: 33413.6 | I59: =H59/100*J59 -> 6348.584 | J59: 19
...

Sheet 恒泰
A1: 附件 1
C2: 法库恒泰农村客运班车运营里程审核情况汇总表（2025 年度）
A3: 序号 | B3: 线路名称 | C3: 车牌照号 | D3: 道路运输证号 | E3: 车辆外廓尺寸 | F3: 核定载客 人数 | G3: 年度运营 天数 | H3: 年度总运营 里程（公里） | I3: 年度总耗 油量（升） | J3: 百公里平均 油耗（升） | K3: 备注
A4: 1 | B4: 东岗子----马家店 | C4: 辽AY8233 | D4: 21214089 | E4: 6620 | F4: 35 | G4: 101 | H4: 4748.6 | I4: =H4/100*J4 -> 1044.692 | J4: 22
A5: 2 | B5: 东岗子----马家店 | C5: 辽AY8303 | D5: 210124001578 | E5: 6620 | F5: 35 | G5: 26 | H5: 659.5 | I5: =H5/100*J5 -> 145.09 | J5: 22
A6: 3 | B6: 东岗子----马家店 | C6: 辽AY8300 | D6: =VLOOKUP(C6,Sheet3!D:E,2,0) -> 210124002882 | E6: 6620 | F6: 35 | G6: 313 | H6: 12852.1 | I6: =H6/100*J6 -> 2827.462 | J6: 22
A7: 4 | B7: 东岗子----马家店 | C7: 辽AY8160 | D7: 21214087 | E7: 6620 | F7: 35 | G7: 53 | H7: 4062.7 | I7: =H7/100*J7 -> 893.794 | J7: 22
A8: 5 | B8: 东岗子----马家店 | C8: 辽AY8002 | D8: 210124001590 | E8: 6620 | F8: 35 | G8: 42 | H8: 1295.3 | I8: =H8/100*J8 -> 284.966 | J8: 22
A9: 6 | B9: 东岗子----马家店 | C9: 辽AY8060 | D9: 210124001579 | E9: 6620 | F9: 35 | G9: 132 | H9: 5014.9 | I9: =H9/100*J9 -> 1103.278 | J9: 22
A10: 7 | B10: 王家窝堡----劳动局 | C10: 辽ABK886 | D10: =VLOOKUP(C10,Sheet3!D:E,2,0) -> 210124002858 | E10: 6620 | F10: 33 | G10: 162 | H10: 17848.76 | I10: =H10/100*J10 -> 3926.7272 | J10: 22
A11: 8 | B11: 王家窝堡----劳动局 | C11: 辽ABK520 | D11: =VLOOKUP(C11,Sheet3!D:E,2,0) -> 210124002860 | E11: 6620 | F11: 33 | G11: 347 | H11: 36846.6 | I11: =H11/100*J11 -> 8106.252 | J11: 22
A12: 9 | B12: 王家窝堡----劳动局 | C12: 辽ABK626 | D12: =VLOOKUP(C12,Sheet3!D:E,2,0) -> 210124002856 | E12: 6620 | F12: 33 | G12: 252 | H12: 22582.1 | I12: =H12/100*J12 -> 4968.062 | J12: 22
A13: 10 | B13: 王家窝堡----劳动局 | C13: 辽ABK001 | D13: =VLOOKUP(C13,Sheet3!D:E,2,0) -> 210124002871 | E13: 6620 | F13: 33 | G13: 332 | H13: 31127.9 | I13: =H13/100*J13 -> 6848.138 | J13: 22
A14: 11 | B14: 王家窝堡----劳动局 | C14: 辽ABK009 | D14: =VLOOKUP(C14,Sheet3!D:E,2,0) -> 210124002857 | E14: 6620 | F14: 33 | G14: 321 | H14: 34425.22 | I14: =H14/100*J14 -> 7573.5484 | J14: 22
A15: 12 | B15: 王家窝堡----劳动局 | C15: 辽ABK080 | D15: 21213762 | E15: 6620 | F15: 33 | G15: 168 | H15: 16379.1 | I15: =H15/100*J15 -> 3603.402 | J15: 22
A16: 13 | B16: 王家窝堡----劳动局 | C16: 辽ABK005 | D16: 210124002870 | E16: 6620 | F16: 33 | G16: 211 | H16: 16250.4 | I16: =H16/100*J16 -> 3575.088 | J16: 22
A17: 14 | B17: 王家窝堡----劳动局 | C17: 辽ABK690 | D17: =VLOOKUP(C17,Sheet3!D:E,2,0) -> 210124002855 | E17: 6620 | F17: 33 | G17: 297 | H17: 34032.8 | I17: =H17/100*J17 -> 7487.216 | J17: 22
A18: 15 | B18: 王家窝堡----劳动局 | C18: 辽ABK877 | D18: =VLOOKUP(C18,Sheet3!D:E,2,0) -> 210124002869 | E18: 6620 | F18: 33 | G18: 312 | H18: 27031.4 | I18: =H18/100*J18 -> 5946.908 | J18: 22
A19: 16 | B19: 王家窝堡----劳动局 | C19: 辽ABK881 | D19: =VLOOKUP(C19,Sheet3!D:E,2,0) -> 210124002859 | E19: 6620 | F19: 33 | G19: 303 | H19: 25979.6 | I19: =H19/100*J19 -> 5715.512 | J19: 22
A20: 17 | B20: 新城堡----风情小镇 | C20: 辽ABK268 | D20: =VLOOKUP(C20,Sheet3!D:E,2,0) -> 210124001505 | E20: 6620 | F20: 33 | G20: 314 | H20: 16243.4 | I20: =H20/100*J20 -> 3573.548 | J20: 22
A21: 18 | B21: 新城堡----风情小镇 | C21: 辽ABK066 | D21: =VLOOKUP(C21,Sheet3!D:E,2,0) -> 210124001510 | E21: 6620 | F21: 33 | G21: 197 | H21: 4611.8 | I21: =H21/100*J21 -> 1014.596 | J21: 22
A22: 19 | B22: 新城堡----风情小镇 | C22: 辽ABK456 | D22: =VLOOKUP(C22,Sheet3!D:E,2,0) -> 210124001498 | E22: 6620 | F22: 33 | G22: 342 | H22: 22404.7 | I22: =H22/100*J22 -> 4929.034 | J22: 22
A23: 20 | B23: 新城堡----风情小镇 | C23: 辽ABK299 | D23: =VLOOKUP(C23,Sheet3!D:E,2,0) -> 210124001500 | E23: 6620 | F23: 33 | G23: 343 | H23: 21849.05 | I23: =H23/100*J23 -> 4806.791 | J23: 22
A24: 21 | B24: 新城堡----风情小镇 | C24: 辽ABK811 | D24: =VLOOKUP(C24,Sheet3!D:E,2,0) -> 210124001506 | E24: 6620 | F24: 33 | G24: 336 | H24: 22592.1 | I24: =H24/100*J24 -> 4970.262 | J24: 22
A25: 22 | B25: 新城堡----风情小镇 | C25: 辽ACC698 | D25: =VLOOKUP(C25,Sheet3!D:E,2,0) -> 210124001497 | E25: 6620 | F25: 33 | G25: 252 | H25: 14457.53 | I25: =H25/100*J25 -> 3180.6566 | J25: 22
A26: 23 | B26: 新城堡----风情小镇 | C26: 辽ABK258 | D26: =VLOOKUP(C26,Sheet3!D:E,2,0) -> 210124001508 | E26: 6620 | F26: 33 | G26: 350 | H26: 28555.7 | I26: =H26/100*J26 -> 6282.254 | J26: 22
A27: 24 | B27: 新城堡----风情小镇 | C27: 辽ABK016 | D27: =VLOOKUP(C27,Sheet3!D:E,2,0) -> 210124001504 | E27: 6620 | F27: 33 | G27: 346 | H27: 23998.9 | I27: =H27/100*J27 -> 5279.758 | J27: 22
A28: 25 | B28: 新城堡----风情小镇 | C28: 辽ABK211 | D28: =VLOOKUP(C28,Sheet3!D:E,2,0) -> 210124001507 | E28: 6620 | F28: 33 | G28: 281 | H28: 19092.7 | I28: =H28/100*J28 -> 4200.394 | J28: 22
... A31: 28 | B31: 新城堡----风情小镇 | C31: 辽ABK058 | D31: =VLOOKUP(C31,Sheet3!D:E,2,0) -> 210124001502 | E31: 6620 | F31: 33 | G31: 277 | H31: 8680.1 | I31: =H31/100*J31 -> 1909.622 | J31: 22
A32: 合计 | G32: =SUM(G4:G31) -> 6975 | H32: =SUM(H4:H31) -> 504353.6 | I32: =SUM(I4:I31) -> 110957.79
C33: 说明： 9 米 ＜大型车≤12 米 ，油耗 28 升/百公里； 6 米＜ 中型车≤9 米 ，油耗 22 升/百公里； 3.5 米 ＜小型车≤6 米 ，油耗 19 升/百公里
A34: 交通主管部门 填表人签字： 负责人签字： 年 月 日

Sheet Sheet3
A1: 车辆状态 | D1: 车牌号码 | E1: 道路运输证号 | F1: 许可机构 | G1: 车辆类型 | H1: 经营范围 | I1: 业户名称 | J1: 许可证号 | L1: 经济性质 | M1: 燃料类型 | N1: 最近核发道路运输证日期 | O1: 道路运输证有效期 | P1: 车辆购买日期 | Q1: 车辆登记日期 | R1: 经营方式 | S1: 座位数(驾*乘*旅) | X1: 技术等级检验开始日期 | Y1: 年审截止日期
A2: 正常营业 | B2: 沈 | C2: 黄绿色 | D2: 辽A02008D | E2: 210124000099 | F2: 法库审批大厅 | G2: 大型普通客车 | H2: 四类客运班线（县内） | I2: 法库沈安运输有限公司 | J2: 沈 | K2: 210100100038 | L2: 其他有限责任公司 | M2: 电 | N2: 2025-07-25 | O2: 2028-06-30 | Q2: 2025-02-14 | S2: 1 | T2: + | U2: 0 | V2: + | W2: 17 | X2: 46038 | Y2: 46446
A3: 正常营业 | B3: 沈 | C3: 黄绿色 | D3: 辽A02500D | E3: 210124000097 | F3: 法库审批大厅 | G3: 大型普通客车 | H3: 四类客运班线（县内） | I3: 法库沈安运输有限公司 | J3: 沈 | K3: 210100100038 | L3: 其他有限责任公司 | M3: 电 | N3: 2025-07-25 | O3: 2028-06-30 | Q3: 2025-02-14 | S3: 1 | T3: + | U3: 0 | V3: + | W3: 17 | X3: 46031 | Y3: 46446
A4: 正常营业 | B4: 沈 | C4: 黄绿色 | D4: 辽A02778D | E4: 210124003586 | F4: 法库审批大厅 | G4: 大型普通客车 | H4: 四类客运班线（县内）,四类客运班线（毗邻县） | I4: 法库沈安运输有限公司 | J4: 沈 | K4: 210100100038 | L4: 其他有限责任公司 | M4: 电 | N4: 2026-06-29 | O4: 2029-06-30 | Q4: 2017-06-28 | S4: 1 | T4: + | U4: 0 | V4: + | W4: 23 | X4: 46183 | Y4: 46386
A5: 正常营业 | B5: 沈 | C5: 黄绿色 | D5: 辽A06879D | E5: 210124003585 | F5: 法库审批大厅 | G5: 大型普通客车 | H5: 四类客运班线（县内） | I5: 法库沈安运输有限公司 | J5: 沈 | K5: 210100100038 | L5: 其他有限责任公司 | M5: 电 | N5: 2026-06-29 | O5: 2029-06-30 | Q5: 2017-06-28 | S5: 1 | T5: + | U5: 0 | V5: + | W5: 23 | X5: 46178 | Y5: 46386
A6: 正常营业 | B6: 沈 | C6: 黄绿色 | D6: 辽A07155D | E6: 210124003458 | F6: 法库审批大厅 | G6: 大型普通客车 | H6: 四类客运班线（县内） | I6: 法库沈安运输有限公司 | J6: 沈 | K6: 210100100038 | L6: 其他有限责任公司 | M6: 电 | N6: 2026-04-29 | O6: 2029-04-30 | Q6: 2017-06-28 | S6: 1 | T6: + | U6: 0 | V6: + | W6: 23 | X6: 46185 | Y6: 46386
A7: 正常营业 | B7: 沈 | C7: 黄绿色 | D7: 辽A07199D | E7: 210124003462 | F7: 法库审批大厅 | G7: 大型普通客车 | H7: 四类客运班线（县内） | I7: 法库沈安运输有限公司 | J7: 沈 | K7: 210100100038 | L7: 其他有限责任公司 | M7: 电 | N7: 2026-04-30 | O7: 2029-04-30 | Q7: 2017-06-28 | S7: 1 | T7: + | U7: 0 | V7: + | W7: 23 | X7: 46180 | Y7: 46386
A8: 正常营业 | B8: 沈 | C8: 黄绿色 | D8: 辽A07880D | E8: 210124003464 | F8: 法库审批大厅 | G8: 大型普通客车 | H8: 四类客运班线（县内） | I8: 法库沈安运输有限公司 | J8: 沈 | K8: 210100100038 | L8: 其他有限责任公司 | M8: 电 | N8: 2026-04-30 | O8: 2029-04-30 | Q8: 2017-06-28 | S8: 1 | T8: + | U8: 0 | V8: + | W8: 23 | X8: 46178 | Y8: 46386
A9: 正常营业 | B9: 沈 | C9: 黄绿色 | D9: 辽A07898D | E9: 210124003463 | F9: 法库审批大厅 | G9: 大型普通客车 | H9: 四类客运班线（县内） | I9: 法库沈安运输有限公司 | J9: 沈 | K9: 210100100038 | L9: 其他有限责任公司 | M9: 电 | N9: 2026-04-30 | O9: 2029-04-30 | Q9: 2017-06-28 | S9: 1 | T9: + | U9: 0 | V9: + | W9: 23 | X9: 46180 | Y9: 46386
A10: 正常营业 | B10: 沈 | C10: 黄绿色 | D10: 辽A08000D | E10: 210124000106 | F10: 法库审批大厅 | G10: 大型普通客车 | H10: 四类客运班线（县内） | I10: 法库沈安运输有限公司 | J10: 沈 | K10: 210100100038 | L10: 其他有限责任公司 | M10: 电 | N10: 2025-07-25 | O10: 2028-06-30 | Q10: 2025-02-14 | S10: 1 | T10: + | U10: 0 | V10: + | W10: 17 | X10: 46041 | Y10: 46446
A11: 正常营业 | B11: 沈 | C11: 黄绿色 | D11: 辽A08066D | E11: 210124000100 | F11: 法库审批大厅 | G11: 大型普通客车 | H11: 四类客运班线（县内） | I11: 法库沈安运输有限公司 | J11: 沈 | K11: 210100100038 | L11: 其他有限责任公司 | M11: 电 | N11: 2026-05-21 | O11: 2028-05-30 | Q11: 2025-02-14 | S11: 1 | T11: + | U11: 0 | V11: + | W11: 17 | X11: 46037 | Y11: 46446
A12: 正常营业 | B12: 沈 | C12: 黄绿色 | D12: 辽A08159D | E12: 210124000107 | F12: 法库审批大厅 | G12: 大型普通客车 | H12: 四类客运班线（县内） | I12: 法库沈安运输有限公司 | J12: 沈 | K12: 210100100038 | L12: 其他有限责任公司 | M12: 电 | N12: 2024-02-21 | O12: 2027-02-28 | Q12: 2025-02-14 | S12: 1 | T12: + | U12: 0 | V12: + | W12: 17 | X12: 46041 | Y12: 46446
A13: 正常营业 | B13: 沈 | C13: 黄绿色 | D13: 辽A08258D | E13: 210124000095 | F13: 法库审批大厅 | G13: 大型普通客车 | H13: 四类客运班线（县内） | I13: 法库沈安运输有限公司 | J13: 沈 | K13: 210100100038 | L13: 其他有限责任公司 | M13: 电 | N13: 2025-07-25 | O13: 2028-06-30 | Q13: 2025-02-14 | S13: 1 | T13: + | U13: 0 | V13: + | W13: 17 | X13: 46038 | Y13: 46446
... A26: 正常营业 | B26: 沈 | C26: 黄色 | D26: 辽ABK001 | E26: 210124002871 | F26: 法库审批大厅 | G26: 大型普通客车 | H26: 四类客运班线（县内） | I26: 法库沈安运输有限公司 | J26: 沈 | K26: 210100100038 | L26: 其他有限责任公司 | M26: 柴油 | N26: 2026-08-03 | O26: 2029-06-30 | Q26: 2018-06-12 | S26: 1 | T26: + | U26: 0 | V26: + | W26: 32 | X26: 46186 | Y26: 46386
A27: 正常营业 | B27: 沈 | C27: 黄色 | D27: 辽ABK006 | E27: 210124000246 | F27: 法库县运管处 | G27: 大型普通客车 | H27: 县内班车客运 | I27: 法库县恒泰客运有限责任公司 | J27: 沈 | K27: 210112000076 | L27: 有限责任（公司） | M27: 柴油 | N27: 2022-11-24 | O27: 2026-05-23 | P27: 1900-01-01 | Q27: 2018-11-23 | S27: 1 | T27: + | U27: 1 | V27: + | W27: 31 | X27: 45859 | Y27: 45626
A28: 正常营业 | B28: 沈 | C28: 黄色 | D28: 辽ABK009 | E28: 210124002857 | F28: 法库审批大厅 | G28: 大型普通客车 | H28: 四类客运班线（县内） | I28: 法库沈安运输有限公司 | J28: 沈 | K28: 210100100038 | L28: 其他有限责任公司 | M28: 柴油 | N28: 2026-08-03 | O28: 2029-06-30 | Q28: 2018-06-12 | S28: 1 | T28: + | U28: 0 | V28: + | W28: 32 | X28: 46189 | Y28: 46386
A29: 正常营业 | B29: 沈 | C29: 黄色 | D29: 辽ABK016 | E29: 210124001504 | F29: 法库审批大厅 | G29: 大型普通客车 | H29: 四类客运班线（县内） | I29: 法库县恒泰客运有限责任公司 | J29: 沈 | K29: 210112000076 | L29: 有限责任（公司） | M29: 柴油 | N29: 2026-07-28 | O29: 2026-08-31 | Q29: 2018-11-23 | S29: 1 | T29: + | U29: 1 | V29: + | W29: 31 | X29: 46164 | Y29: 46349
A30: 正常营业 | B30: 沈 | C30: 黄色 | D30: 辽ABK058 | E30: 210124001502 | F30: 法库审批大厅 | G30: 大型普通客车 | H30: 四类客运班线（县内） | I30: 法库县恒泰客运有限责任公司 | J30: 沈 | K30: 210112000076 | L30: 有限责任（公司） | M30: 柴油 | N30: 2025-12-04 | O30: 2026-08-31 | Q30: 2018-11-23 | S30: 1 | T30: + | U30: 1 | V30: + | W30: 31 | X30: 46170 | Y30: 46349
A31: 正常营业 | B31: 沈 | C31: 黄色 | D31: 辽ABK066 | E31: 210124001510 | F31: 法库县运管处 | G31: 大型普通客车 | H31: 县内班车客运 | I31: 法库县恒泰客运有限责任公司 | J31: 沈 | K31: 210112000076 | L31: 有限责任（公司） | M31: 柴油 | N31: 2022-11-19 | O31: 2026-05-23 | Q31: 2018-11-23 | S31: 1 | T31: + | U31: 1 | V31: + | W31: 31 | X31: 46183 | Y31: 46172
A32: 正常营业 | B32: 沈 | C32: 黄色 | D32: 辽ABK211 | E32: 210124001507 | F32: 法库审批大厅 | G32: 大型普通客车 | H32: 四类客运班线（县内） | I32: 法库县恒泰客运有限责任公司 | J32: 沈 | K32: 210112000076 | L32: 有限责任（公司） | M32: 柴油 | N32: 2026-07-08 | O32: 2026-10-23 | Q32: 2018-11-23 | S32: 1 | T32: + | U32: 1 | V32: + | W32: 31 | X32: 46152 | Y32: 46349
A33: 正常营业 | B33: 沈 | C33: 黄色 | D33: 辽ABK218 | E33: 210124001499 | F33: 法库审批大厅 | G33: 大型普通客车 | H33: 四类客运班线（县内） | I33: 法库县恒泰客运有限责任公司 | J33: 沈 | K33: 210112000076 | L33: 有限责任（公司） | M33: 柴油 | N33: 2026-07-29 | O33: 2026-08-31 | Q33: 2018-11-23 | S33: 1 | T33: + | U33: 1 | V33: + | W33: 31 | X33: 46167 | Y33: 46349
A34: 正常营业 | B34: 沈 | C34: 黄色 | D34: 辽ABK234 | E34: 210124002041 | F34: 法库县运管处 | G34: 大型普通客车 | H34: 四类客运班线（县内） | I34: 法库沈安运输有限公司 | J34: 沈 | K34: 210100100038 | L34: 其他有限责任公司 | M34: 柴油 | N34: 2025-06-30 | O34: 2028-06-29 | Q34: 2018-04-09 | S34: 1 | T34: + | U34: 1 | V34: + | W34: 17 | X34: 46126 | Y34: 46325
A35: 正常营业 | B35: 沈 | C35: 黄色 | D35: 辽ABK258 | E35: 210124001508 | F35: 法库审批大厅 | G35: 大型普通客车 | H35: 四类客运班线（县内） | I35: 法库县恒泰客运有限责任公司 | J35: 沈 | K35: 210112000076 | L35: 有限责任（公司） | M35: 柴油 | N35: 2026-07-28 | O35: 2026-08-31 | Q35: 2018-11-23 | S35: 1 | T35: + | U35: 1 | V35: + | W35: 31 | X35: 46152 | Y35: 46349
A36: 正常营业 | B36: 沈 | C36: 黄色 | D36: 辽ABK268 | E36: 210124001505 | F36: 法库县运管处 | G36: 大型普通客车 | H36: 四类客运班线（县内） | I36: 法库县恒泰客运有限责任公司 | J36: 沈 | K36: 210112000076 | L36: 有限责任（公司） | M36: 柴油 | N36: 2026-07-28 | O36: 2026-08-31 | Q36: 2018-11-23 | S36: 1 | T36: + | U36: 1 | V36: + | W36: 31 | X36: 46164 | Y36: 46356
A37: 正常营业 | B37: 沈 | C37: 黄色 | D37: 辽ABK299 | E37: 210124001500 | F37: 法库审批大厅 | G37: 大型普通客车 | H37: 四类客运班线（县内） | I37: 法库县恒泰客运有限责任公司 | J37: 沈 | K37: 210112000076 | L37: 有限责任（公司） | M37: 柴油 | N37: 2026-07-28 | O37: 2026-08-31 | Q37: 2018-11-23 | S37: 1 | T37: + | U37: 1 | V37: + | W37: 33 | X37: 46152 | Y37: 46349
A38: 正常营业 | B38: 沈 | C38: 黄色 | D38: 辽ABK456 | E38: 210124001498 | F38: 法库审批大厅 | G38: 大型普通客车 | H38: 四类客运班线（县内） | I38: 法库县恒泰客运有限责任公司 | J38: 沈 | K38: 210112000076 | L38: 有限责任（公司） | M38: 柴油 | N38: 2026-07-28 | O38: 2026-08-31 | Q38: 2018-11-23 | S38: 1 | T38: + | U38: 1 | V38: + | W38: 33 | X38: 46153 | Y38: 46349
A39: 正常营业 | B39: 沈 | C39: 黄色 | D39: 辽ABK520 | E39: 210124002860 | F39: 法库审批大厅 | G39: 大型普通客车 | H39: 四类客运班线（县内） | I39: 法库沈安运输有限公司 | J39: 沈 | K39: 210100100038 | L39: 其他有限责任公司 | M39: 柴油 | N39: 2026-08-03 | O39: 2029-06-30 | Q39: 2018-06-12 | S39: 1 | T39: + | U39: 0 | V39: + | W39: 32 | X39: 46186 | Y39: 46386
... A108: 正常营业 | B108: 沈 | C108: 黄色 | D108: 辽AY8339 | E108: 210124001685 | F108: 法库审批大厅 | G108: 中型普通客车 | H108: 四类客运班线（县内） | I108: 法库沈安运输有限公司 | J108: 沈 | K108: 210100100038 | L108: 其他有限责任公司 | M108: 柴油 | N108: 2025-07-01 | O108: 2028-06-30 | Q108: 2017-07-20 | S108: 1 | T108: + | U108: 1 | V108: + | W108: 17 | X108: 46218 | Y108: 46417
